Workbook
Name 政策扶持领域: '[1]其它-说明'!$B$30:$B$33

Sheet Sheet1
A1: 附件1
A2: 2026年二季度融资担保公司担保费补贴明细表
O3: 单位：万元
A4: 序号 | B4: 机 构 | C4: 常规业务 | H4: 批量业务 | M4: 合计审定金额 | N4: 常规业务核减原因 | O4: 批量业务核减原因
C5: 累计金额 | D5: 申报笔数 | E5: 申报金额 | F5: 第三方机构核定金额 | G5: 核减金额 | H5: 累计金额 | I5: 申报笔数 | J5: 申报金额 | K5: 第三方机构核定金额 | L5: 核减金额
A6: 1 | B6: 湖南金信融资担保有限责任公司 | C6: 7880 | D6: 22 | E6: 51.3 | F6: =E6-G6 -> 51.3 | G6: 0 | H6: 0 | I6: 0 | J6: 0 | K6: =J6-L6 -> 0 | L6: 0 | M6: =F6+K6 -> 51.3
A7: 2 | B7: 株洲金财惠科融资担保有限公司 | C7: 4009.94 | D7: 9 | E7: 23.08 | F7: =E7-G7 -> 23.08 | G7: 0 | H7: 12801.8 | I7: 43 | J7: 31.71 | K7: =J7-L7 -> 29.61 | L7: =SUMIF([2]批量业务底稿!$C$2:$C$13772,$B7,[2]批量业务底稿!$AR$2:$AR$13772) -> 2.1 | M7: =F7+K7 -> 52.69 | O7: 1、未按照实际在保金额计算核减1.81万元； 2、适用补贴费率错误核减0.29万元。
A8: 3 | B8: 浏阳市财信融资担保有限责任公司 | C8: 12260 | D8: 34 | E8: 68.01 | F8: =E8-G8 -> 71.74 | G8: =SUM('[2]3.浏阳市财信融资担保有限责任公司'!AI4:AI10) -> -3.73 | H8: 0 | I8: 0 | J8: 0 | K8: =J8-L8 -> 0 | L8: 0 | M8: =F8+K8 -> 71.74 | N8: 1、补贴费率适用错误核减-3.73万元。
A9: 4 | B9: 浏阳市中小企业融资担保有限公司 | C9: 1450 | D9: 4 | E9: 6.47 | F9: =E9-G9 -> 6.85 | G9: =SUM('[2]4.浏阳市中小企业融资担保有限公司'!AI4:AI4) -> -0.38 | H9: 0 | I9: 0 | J9: 0 | K9: =J9-L9 -> 0 | L9: 0 | M9: =F9+K9 -> 6.85 | N9: 1、补贴费率适用错误核减-0.38万元。
A10: 5 | B10: 湘潭县莲乡融资担保有限公司 | C10: 18682.5 | D10: 83 | E10: 122.79 | F10: =E10-G10 -> 120.79 | G10: =SUM('[2]5.湘潭县莲乡融资担保有限公司'!AK4:AK8) -> 2 | H10: 5704.7 | I10: 28 | J10: 10.99 | K10: =J10-L10 -> 2.16 | L10: =SUMIF([2]批量业务底稿!$C$2:$C$13772,$B10,[2]批量业务底稿!$AR$2:$AR$13772) -> 8.83 | M10: =F10+K10 -> 122.95 | N10: 尽调资料存在瑕疵核减2.00万元； | O10: 1、以前季度业务重复申报核减9.02万元； 2、适用补贴费率错误核减-0.19万元。
A11: 6 | B11: 湘潭中小微融资担保有限公司 | C11: 7519 | D11: 24 | E11: 48.72 | F11: =E11-G11 -> 46.65 | G11: =SUM('[2]6.湘潭中小微融资担保有限公司'!AH4:AH7) -> 2.07 | H11: 92087.66 | I11: 899 | J11: 220.93 | K11: =J11-L11 -> 216.95 | L11: =SUMIF([2]批量业务底稿!$C$2:$C$13772,$B11,[2]批量业务底稿!$AR$2:$AR$13772) -> 3.98 | M11: =F11+K11 -> 263.6 | N11: 1、年化担保费率(含税）超过1%核减2.07万元。 | O11: 未按照实际在保金额计算核减3.98万元。
A12: 7 | B12: 株洲市融资担保有限公司 | C12: 3200 | D12: 6 | E12: 19.02 | F12: =E12-G12 -> 19.02 | G12: 0 | H12: 97798.82 | I12: 2624 | J12: 210.74 | K12: =J12-L12 -> 135.55 | L12: =210.74-135.55 -> 75.19 | M12: =F12+K12 -> 154.57 | O12: 本季度申报补贴金额210.74万元，核减0万元。因批量业务上限补贴金额500万元，第一季度已获得补贴364.45万元，本季度给予135.55万元补贴。
A13: 8 | B13: 邵阳县中小企业融资担保有限责任公司 | C13: 14534.59 | D13: 76 | E13: 87.16 | F13: =E13-G13 -> 55.59 | G13: =SUM('[2]8.邵阳县中小企业融资担保有限责任公司'!AI4:AI46) -> 31.57 | H13: 0 | I13: 0 | J13: 0 | K13: =J13-L13 -> 0 | L13: 0 | M13: =F13+K13 -> 55.59 | N13: 1、以前季度业务重复申报核减31.57万元。
A14: 9 | B14: 洞口县中小企业融资担保有限责任公司 | C14: 4077.56 | D14: 52 | E14: 25.68 | F14: =E14-G14 -> 27.93 | G14: =SUM('[2]9.洞口县中小企业融资担保有限责任公司'!AI4:AI18) -> -2.25 | H14: 1855 | I14: 43 | J14: 3.71 | K14: =J14-L14 -> 3.71 | L14: =SUMIF([2]批量业务底稿!$C$2:$C$13772,$B14,[2]批量业务底稿!$AR$2:$AR$13772) -> 0 | M14: =F14+K14 -> 31.64 | N14: 1、补贴费率适用错误核减-1.34万元； 2、未按照实际承保期间计算核减-0.91万元。
A15: 10 | B15: 常德财科融资担保有限公司 | C15: 35914.79 | D15: 167 | E15: 224.36 | F15: =E15-G15 -> 220.15 | G15: =SUM('[2]10.常德财科担保'!AH4:AH26) -> 4.21 | H15: 5277 | I15: 64 | J15: 12.68 | K15: =J15-L15 -> 12 | L15: =SUMIF([2]批量业务底稿!$C$2:$C$13772,$B15,[2]批量业务底稿!$AR$2:$AR$13772) -> 0.68 | M15: =F15+K15 -> 232.15 | N15: 1、补贴费率适用错误核减3.73万元； 2、未按照实际承保期间计算核减0.02万元； 3、年化担保费率(含税）超过1%核减0.46万元； | O15: 1、以前季度业务重复申报核减0.45万元； 2、适用补贴费率错误核减0.23万元。
A16: 11 | B16: 湖南德诚融资担保有限公司 | C16: 17580 | D16: 51 | E16: 117.19 | F16: =E16-G16 -> 111.78342 | G16: =SUM('[2]11.湖南德诚融资担保有限公司'!AI4:AI28) -> 5.4065753 | H16: 0 | I16: 0 | J16: 0 | K16: =J16-L16 -> 0 | L16: 0 | M16: =F16+K16 -> 111.78342 | N16: 1、补贴费率适用错误核减-2.12万元； 2、年化担保费率(含税）超过1%核减0.94万元； 3、未按照实际承保期间计算核减0.25万元； 4、以前季度业务重复申报核减6.34万元。
A17: 12 | B17: 常德美源融资担保有限责任公司 | C17: 7510.5 | D17: 37 | E17: 49.72 | F17: =E17-G17 -> 49.69 | G17: =SUM('[2]12.常德美源融资担保'!AI4:AI13) -> 0.03 | H17: 0 | I17: 0 | J17: 0 | K17: =J17-L17 -> 0 | L17: 0 | M17: =F17+K17 -> 49.69 | N17: 1、补贴费率适用错误核减0.03万元。
A18: 13 | B18: 桃源县惠民中小企业融资担保有限公司 | C18: 6218.9 | D18: 51 | E18: 41.79 | F18: =E18-G18 -> 35.68 | G18: =SUM('[2]13.桃源县惠民中小企业融资担保有限公司'!AI4:AI19) -> 6.11 | H18: 0 | I18: 0 | J18: 0 | K18: =J18-L18 -> 0 | L18: 0 | M18: =F18+K18 -> 35.68 | N18: 1、补贴费率适用错误核减3.17万元； 2、备案信息与申报资料信息不一致核减1.35万元； 3、以前季度业务重复申报核减1.59万元。
A19: 14 | B19: 张家界市中小企业融资担保有限公司 | C19: 18472.1 | D19: 47 | E19: 122.16 | F19: =E19-G19 -> 111.92 | G19: =SUM('[2]14.张家界市中小企业融资担保有限公司'!AI4:AI12) -> 10.24 | H19: 47926.31 | I19: 549 | J19: 95.46 | K19: =J19-L19 -> 94.18 | L19: =SUMIF([2]批量业务底稿!$C$2:$C$13772,$B19,[2]批量业务底稿!$AR$2:$AR$13772) -> 1.28 | M19: =F19+K19 -> 206.1 | N19: 1、年化担保费率(含税）超过1%核减3.68万元； 2、申报主债权金额未按实际在保金额计算核减0.06万元； 3、以前季度业务重复申报核减6.50万元。 | O19: 年化担保费率超过0.8%核减1.28万元。
A20: 15 | B20: 张家界经济发展融资担保有限公司 | C20: 27428.99 | D20: 49 | E20: 150.16 | F20: =E20-G20 -> 157.65 | G20: =SUM('[2]15.张家界经济发展融资担保有限公司'!AI4:AI23) -> -7.49 | H20: 0 | I20: 0 | J20: 0 | K20: =J20-L20 -> 0 | L20: 0 | M20: =F20+K20 -> 157.65 | N20: 1、补贴费率适用错误核减-9.49万元； 2、资料不齐全核减2.00万元；
A21: 16 | B21: 宁远县中小微企业融资担保有限公司 | C21: 14770 | D21: 52 | E21: 75.97 | F21: =E21-G21 -> 52.92 | G21: =SUM('[2]16.宁远县中小微企业融资担保有限公司'!AH3:AH26) -> 23.05 | H21: 2127.3 | I21: 23 | J21: 4.5 | K21: =J21-L21 -> 5.89 | L21: =SUMIF([2]批量业务底稿!$C$2:$C$13772,$B21,[2]批量业务底稿!$AR$2:$AR$13772) -> -1.39 | M21: =F21+K21 -> 58.81 | N21: 1、补贴费率适用错误核减-2.45万元； 2、资料不齐全核减0.28万元； 3、以前季度业务重复申报核减25.22万元。 | O21: 适用补贴费率错误核减-1.39万元。
A22: 17 | B22: 蓝山县财信融资担保有限公司 | C22: 15308 | D22: 104 | E22: 110.43 | F22: =E22-G22 -> 110.91 | G22: =SUM('[2]17.蓝山县财信融资担保有限公司'!AL4:AL48) -> -0.48 | H22: 0 | I22: 0 | J22: 0 | K22: =J22-L22 -> 0 | L22: 0 | M22: =F22+K22 -> 110.91 | N22: 1、补贴费率适用错误核减-0.48万元。
A23: 18 | B23: 湘西融资担保有限责任公司 | C23: 8896 | D23: 22 | E23: 60.26 | F23: =E23-G23 -> 55.48 | G23: =SUM('[2]18.湘西融资担保有限责任公司'!AH4:AH7) -> 4.78 | H23: 7251.52 | I23: 57 | J23: 21.66 | K23: =J23-L23 -> 15.37 | L23: =SUMIF([2]批量业务底稿!$C$2:$C$13772,$B23,[2]批量业务底稿!$AR$2:$AR$13772) -> 6.29 | M23: =F23+K23 -> 70.85 | N23: 1、补贴费率适用错误核减4.78万元。 | O23: 适用补贴费率错误核减6.29万元。
A24: 19 | B24: 永州市潇湘融资担保有限公司 | C24: 8926 | D24: 30 | E24: 66.63 | F24: =E24-G24 -> 57.45 | G24: =SUM('[2]19.永州市潇湘融资担保有限公司'!AH4:AH14) -> 9.18 | H24: 52494.6 | I24: 704 | J24: 151.83 | K24: =J24-L24 -> 136.44 | L24: =SUMIF([2]批量业务底稿!$C$2:$C$13772,$B24,[2]批量业务底稿!$AR$2:$AR$13772) -> 15.39 | M24: =F24+K24 -> 193.89 | N24: 1、补贴费率适用错误核减5.03万元； 2、年化担保费率(含税）超过1%核减2.80万元； 3、备案信息与申报资料信息不一致核减1.35万元； | O24: 1、适用补贴费率错误核减10.68万元； 2、年化担保费率超过0.8%核减4.71万元。
A25: 20 | B25: 花垣县融资担保有限责任公司 | C25: 4391 | D25: 14 | E25: 29.43 | F25: =E25-G25 -> 29.263973 | G25: =SUM('[2]20.花垣县融资担保有限责任公司'!AI4:AI11) -> 0.1660274 | H25: 1784.4 | I25: 7 | J25: 3.4 | K25: =J25-L25 -> 3.4 | L25: =SUMIF([2]批量业务底稿!$C$2:$C$13772,$B25,[2]批量业务底稿!$AR$2:$AR$13772) -> 0 | M25: =F25+K25 -> 32.663973 | N25: 1、补贴费率适用错误核减0.04万元； 2、申报主债权金额未按实际在保金额计算核减0.13万元。
A26: 21 | B26: 湖南潭城融资担保集团有限公司 | C26: 901 | D26: 3 | E26: 4.51 | F26: =E26-G26 -> 4.505 | G26: =SUM('[2]21湖南潭城融资担保集团有限公司'!AH4:AH4) -> 0.005 | H26: 0 | I26: 0 | J26: 0 | K26: =J26-L26 -> 0 | L26: 0 | M26: =F26+K26 -> 4.505
A27: 22 | B27: 湖南省文化旅游融资担保有限公司 | C27: 8026.67 | D27: 23 | E27: 45.94 | F27: =E27-G27 -> 47 | G27: =SUM('[2]22湖南省文化旅游融资担保有限公司 '!AH4:AH4) -> -1.06 | H27: 32138.55 | I27: 555 | J27: 83.75 | K27: =J27-L27 -> 83.75 | L27: =SUMIF([2]批量业务底稿!$C$2:$C$13772,$B27,[2]批量业务底稿!$AR$2:$AR$13772) -> 0 | M27: =F27+K27 -> 130.75 | N27: 1、补贴费率适用错误核减-1.06万元。
A28: 23 | B28: 郴州市中小企业融资担保有限公司 | C28: 6460.2 | D28: 22 | E28: 45.4 | F28: =E28-G28 -> 42.042397 | G28: =SUM('[2]23郴州市中小企业融资担保有限公司'!AH4:AH11) -> 3.3576027 | H28: 69856.5 | I28: 337 | J28: 156.17 | K28: =J28-L28 -> 125.3011 | L28: =SUMIF([2]批量业务底稿!$C$2:$C$13772,$B28,[2]批量业务底稿!$AR$2:$AR$13772) -> 30.868904 | M28: =F28+K28 -> 167.34349 | N28: 1、补贴费率适用错误核减2.14万元； 2、资料不齐全核减0.5万元； 3、年化担保费率(含税）超过1%核减0.72万元。 | O28: 1、年化担保费率超过0.8%核减23.88万元； 2、适用补贴费率错误核减6.39万元； 3、备案时间超过2026年6月30日，不归属于本期申报核减0.60万元。
A29: 24 | B29: 衡阳市融资担保集团有限公司 | C29: 20174 | D29: 33 | E29: 121.22 | F29: =E29-G29 -> 121.22 | G29: 0 | H29: 33592.83 | I29: 207 | J29: 45.4 | K29: =J29-L29 -> 45.4 | L29: =SUMIF([2]批量业务底稿!$C$2:$C$13772,$B29,[2]批量业务底稿!$AR$2:$AR$13772) -> 0 | M29: =F29+K29 -> 166.62
A30: 25 | B30: 湖南金玉融资担保有限公司 | C30: 2335 | D30: 6 | E30: 16.66 | F30: =E30-G30 -> 16.66 | G30: 0 | H30: 0 | I30: 0 | J30: 0 | K30: =J30-L30 -> 0 | L30: 0 | M30: =F30+K30 -> 16.66
A31: 26 | B31: 湖南梅山融资担保有限责任公司 | C31: 3970 | D31: 19 | E31: 28.69 | F31: =E31-G31 -> 28.5 | G31: =SUM('[2]26湖南梅山融资担保有限责任公司'!AH4:AH10) -> 0.19 | H31: 0 | I31: 0 | J31: 0 | K31: =J31-L31 -> 0 | L31: 0 | M31: =F31+K31 -> 28.5 | N31: 1、补贴费率适用错误核减0.19万元。
A32: 27 | B32: 湖南省科技融资担保有限公司 | C32: 16409.6 | D32: 30 | E32: 100.66 | F32: =E32-G32 -> 96.91 | G32: =SUM('[2]27湖南省科技融资担保有限公司'!AM4:AM50) -> 3.75 | H32: 79503.13 | I32: 360 | J32: 191.53 | K32: =J32-L32 -> 178.14 | L32: =SUMIF([2]批量业务底稿!$C$2:$C$13772,$B32,[2]批量业务底稿!$AR$2:$AR$13772) -> 13.39 | M32: =F32+K32 -> 275.05 | N32: 1、资料不齐全核减3.75万元。 | O32: 1、年化担保费率超过0.8%核减12.30万元； 2、适用补贴费率错误核减1.09万元。
A33: 28 | B33: 湖南省中小企业融资担保有限公司 | C33: 31778.44 | D33: 102 | E33: 193 | F33: =E33-G33 -> 192.53 | G33: =SUM('[2]28湖南省中小企业融资担保有限公司'!AJ3:AJ100) -> 0.47 | H33: 368655.27 | I33: 5329 | J33: 559.75 | K33: =J33-L33 -> 548.01 | L33: =J33-53.11-494.9 -> 11.74 | M33: =F33+K33 -> 740.54 | N33: 1、补贴费率适用错误核减-0.27万元； 2、未按照实际承保期间计算核减0.03万元； 3、申报主债权金额未按实际在保金额计算核减0.71万元。 | O33: 1、“民间投资专项担保计划”申报补贴59.75万元，核减6.64万元。其中因担保费率超0.8%核减3.92万元、适用补贴费率错误核减2.72万元。民投计划给予补贴53.11万元。 2、基础批量业务申报补贴684.83万元，核减189.93万元。其中因担保费率超0.8%核减126.17万元、未按照实际在保金额计算核减63.76万元。基础批量业务给予补贴494.9万元。
A34: 29 | B34: 湖南湘银融资担保有限公司 | C34: 7270 | D34: 15 | E34: 38.6 | F34: =E34-G34 -> 37.35 | G34: =SUM('[2]29湖南湘银融资担保有限公司'!AF4:AF59) -> 1.25 | H34: 0 | I34: 0 | J34: 0 | K34: =J34-L34 -> 0 | L34: 0 | M34: =F34+K34 -> 37.35 | N34: 1、补贴费率适用错误核减-3.26万元； 2、申报主债权金额未按实际在保金额计算核减4.51万元。
A35: 30 | B35: 湖南众诺融资担保有限公司 | C35: 4270 | D35: 10 | E35: 26.32 | F35: =E35-G35 -> 22.59 | G35: =SUM('[2]30湖南众诺融资担保有限公司'!AI4:AI5) -> 3.73 | H35: 0 | I35: 0 | J35: 0 | K35: =J35-L35 -> 0 | L35: 0 | M35: =F35+K35 -> 22.59 | N35: 1、补贴费率适用错误核减1.70万元； 2、以前季度业务重复申报核减2.03万元。
A36: 31 | B36: 怀化市财信融资担保有限责任公司 | C36: 5229.75 | D36: 13 | E36: 33.57 | F36: =E36-G36 -> 33.565625 | G36: =SUM('[2]31怀化市财信融资担保有限责任公司'!AI4:AI4) -> 0.004375 | H36: 12231.81 | I36: 86 | J36: 33.34 | K36: =J36-L36 -> 33.08 | L36: =SUMIF([2]批量业务底稿!$C$2:$C$13772,$B36,[2]批量业务底稿!$AR$2:$AR$13772) -> 0.26 | M36: =F36+K36 -> 66.645625 | O36: 适用补贴费率错误核减0.26万元。
A37: 32 | B37: 嘉禾嘉盛融资担保有限责任公司 | C37: 600 | D37: 2 | E37: 2.98 | F37: =E37-G37 -> 2.98 | G37: 0 | H37: 0 | I37: 0 | J37: 0 | K37: =J37-L37 -> 0 | L37: 0 | M37: =F37+K37 -> 2.98
A38: 33 | B38: 江华华信融资担保有限公司 | C38: 2550 | D38: 8 | E38: 18.21 | F38: =E38-G38 -> 17.81 | G38: =SUM('[2]33.江华华信融资担保有限公司'!AS2:AS26) -> 0.4 | H38: 0 | I38: 0 | J38: 0 | K38: =J38-L38 -> 0 | L38: 0 | M38: =F38+K38 -> 17.81 | N38: 1、补贴费率适用错误核减0.4万元；
A39: 34 | B39: 隆回县中小企业融资担保有限责任公司 | C39: 9675 | D39: 26 | E39: 66 | F39: =E39-G39 -> 55.12 | G39: =SUM('[2]34隆回县中小企业融资担保有限责任公司'!AI4:AI27) -> 10.88 | H39: 8020 | I39: 65 | J39: 24.06 | K39: =J39-L39 -> 22.01 | L39: =SUMIF([2]批量业务底稿!$C$2:$C$13772,$B39,[2]批量业务底稿!$AR$2:$AR$13772) -> 2.05 | M39: =F39+K39 -> 77.13 | N39: 1、补贴费率适用错误核减8.53万元； 2、备案信息不一致核减2.25万元； 3、未按照实际承保期间计算核减0.10万元。 | O39: 适用补贴费率错误核减2.05万元。
A40: 35 | B40: 娄底市兴娄融资担保有限公司 | C40: 34945 | D40: 100 | E40: 210.24 | F40: =E40-G40 -> 148.46063 | G40: =SUM('[2]35娄底市兴娄融资担保有限公司'!AI4:AI55) -> 61.77937 | H40: 40826.34 | I40: 225 | J40: 61.69 | K40: =J40-L40 -> 28.899726 | L40: =SUMIF([2]批量业务底稿!$C$2:$C$13772,$B40,[2]批量业务底稿!$AR$2:$AR$13772) -> 32.790274 | M40: =F40+K40 -> 177.36036 | N40: 1、补贴费率适用错误核减7.11万元； 2、未按照实际承保期间计算核减-4.3万元； 3、以前季度业务重复申报核减57.47万元； 4、申报债权期限不符合本次补贴期间核减1.50万元。 | O40: 1、以前季度业务重复申报核减25.50万元； 2、适用补贴费率错误核减4.20万元； 3、未按照实际在保金额计算核减1.65万元； 4、年化担保费率超过0.8%核减0.94万元； 5、未按照实际承保期间计算核减0.50万元。
...
